BEGIN:VCALENDAR
VERSION:2.0
PRODID:-//https://hpgsb.nust.na///NONSGML kigkonsult.se iCalcreator 2.10.15//
METHOD:PUBLISH
BEGIN:VEVENT
UID:20260421T225315CST-86106b24m9@https://hpgsb.nust.na/
DTSTAMP:20260421T145315Z
DESCRIPTION:Course Fee: N$ 3 400\nThe course will be offered if we have a m
 inimum of 10 participants per programme. Full payment is required before a
  course starts. This course is also available online.\nContact PersonsMs F
 rancina Kashaka\, T: +264 61 207 2236\, F: +264 61 207 9236\, E: fkashaka@
 nust.na https://hpgsb.nust.na/component/rseventspro/event/249-microsoft-ex
 cel-for-office-365-intermediate?Itemid=228
DTSTART:20260610T080000Z
DTEND:20260611T170000Z
LOCATION:Harold Pupkewitz Graduate School of Business Office ()
SUMMARY:Microsoft Excel for Office 365 - Intermediate
URL:https://hpgsb.nust.na/component/rseventspro/event/249-microsoft-excel-f
 or-office-365-intermediate?Itemid=228
END:VEVENT
END:VCALENDAR
