BEGIN:VCALENDAR
VERSION:2.0
PRODID:-//https://hpgsb.nust.na///NONSGML kigkonsult.se iCalcreator 2.10.15//
METHOD:PUBLISH
BEGIN:VEVENT
UID:20260421T225248CST-7208jFXzU2@https://hpgsb.nust.na/
DTSTAMP:20260421T145248Z
DESCRIPTION:Course Fee: N$ 3 400\nThe course will be offered if we have a m
 inimum of 10 participants per programme. Full payment is required before a
  course starts. This course is also available online.\nContact PersonsMs F
 rancina Kashaka\, T: +264 61 207 2236\, F: +264 61 207 9236\, E: fkashaka@
 nust.na https://hpgsb.nust.na/component/rseventspro/event/251-microsoft-ex
 cel-for-office-365-basic?Itemid=228
DTSTART:20260608T080000Z
DTEND:20260609T170000Z
LOCATION:Harold Pupkewitz Graduate School of Business Office ()
SUMMARY:Microsoft Excel for Office 365  - Basic
URL:https://hpgsb.nust.na/component/rseventspro/event/251-microsoft-excel-f
 or-office-365-basic?Itemid=228
END:VEVENT
END:VCALENDAR
