BEGIN:VCALENDAR
VERSION:2.0
PRODID:-//https://hpgsb.nust.na///NONSGML kigkonsult.se iCalcreator 2.10.15//
METHOD:PUBLISH
BEGIN:VEVENT
UID:20260422T050432CST-67094f6Rea@https://hpgsb.nust.na/
DTSTAMP:20260421T210432Z
DESCRIPTION:Course Fee: N$ 3 200\nThe course will be offered if we have a m
 inimum of 10 participants per programme. Full payment is required before a
  course starts. This course is also available online.\nContact PersonsMs F
 rancina Kashaka\, T: +264 61 207 2236\, F: +264 61 207 9236\, E: fkashaka@
 nust.na https://hpgsb.nust.na/component/rseventspro/event/69-microsoft-off
 ice-excel-2016-intermediate?Itemid=228
DTSTART:20250409T080000Z
DTEND:20250410T170000Z
LOCATION:Harold Pupkewitz Graduate School of Business Office ()
SUMMARY:Microsoft Office Excel 2016 - Intermediate
URL:https://hpgsb.nust.na/component/rseventspro/event/69-microsoft-office-e
 xcel-2016-intermediate?Itemid=228
END:VEVENT
END:VCALENDAR
