BEGIN:VCALENDAR
VERSION:2.0
PRODID:-//https://hpgsb.nust.na///NONSGML kigkonsult.se iCalcreator 2.10.15//
METHOD:PUBLISH
BEGIN:VEVENT
UID:20260426T003800CST-5255EwZhjn@https://hpgsb.nust.na/
DTSTAMP:20260425T163800Z
DESCRIPTION:Course Fee: N$3 900  https://hpgsb.nust.na/programmes-calendar/
 it-training-testing-academy-itta/event/192-microsoft-azure-ai-fundamentals
DTSTART:20241028T083000Z
DTEND:20241029T163000Z
LOCATION:CED Office (Centre for Enterprise Development\, Brahms Street\, Wi
 ndhoek\, Khomas\, Namibia)
SUMMARY:Microsoft Azure AI Fundamentals 
URL:https://hpgsb.nust.na/programmes-calendar/it-training-testing-academy-i
 tta/event/192-microsoft-azure-ai-fundamentals
END:VEVENT
END:VCALENDAR
